BEGIN:VCALENDAR
VERSION:2.0
PRODID:-//DSM Observer - ECPv4.4.5//NONSGML v1.0//EN
CALSCALE:GREGORIAN
METHOD:PUBLISH
X-WR-CALNAME:DSM Observer
X-ORIGINAL-URL:http://dsmobserver.org
X-WR-CALDESC:Events for DSM Observer
BEGIN:VEVENT
DTSTART;VALUE=DATE:20170731
DTEND;VALUE=DATE:20170804
DTSTAMP:20170727T221459
CREATED:20170707T220849Z
LAST-MODIFIED:20170707T220946Z
UID:745-1501459200-1501891199@dsmobserver.org
SUMMARY:ISA Legal & Technical Commission Meeting
DESCRIPTION:The Authority hosts its annual sessions at its headquarters in Kingston\, Jamaica. At the Annual Sessions\, representatives from member States of the Authority meet\, discuss and formulate the work of the International Seabed Authority and its Secretariat. The Session dates are 31 July-4 August for the Legal & Technical Commission and 7-18 August 2017 for the 23rd Session. All session documents are available online here in all six official languages of the UN and are also accessible through the United Nations PaperSmart system.
URL:http://dsmobserver.org/event/isa-legal-technical-commission-meeting/
LOCATION:14 - 20 Port Royal Street\, Kingston\, Jamaica
CATEGORIES:Policy Events
ATTACH;FMTTYPE=image/jpeg:http://dsmobserver.org/wp-content/uploads/2017/05/ISA.jpg
END:VEVENT
END:VCALENDAR